BEGIN:VCALENDAR
VERSION:2.0
PRODID:-//NAMDET - ECPv5.5.0//NONSGML v1.0//EN
CALSCALE:GREGORIAN
METHOD:PUBLISH
X-WR-CALNAME:NAMDET
X-ORIGINAL-URL:https://namdet.org
X-WR-CALDESC:Events for NAMDET
BEGIN:VTIMEZONE
TZID:Europe/London
BEGIN:DAYLIGHT
TZOFFSETFROM:+0000
TZOFFSETTO:+0100
TZNAME:BST
DTSTART:20220327T010000
END:DAYLIGHT
BEGIN:STANDARD
TZOFFSETFROM:+0100
TZOFFSETTO:+0000
TZNAME:GMT
DTSTART:20221030T010000
END:STANDARD
END:VTIMEZONE
BEGIN:VEVENT
DTSTART;TZID=Europe/London:20221117T080000
DTEND;TZID=Europe/London:20221117T170000
DTSTAMP:20260424T095711
CREATED:20220119T121101Z
LAST-MODIFIED:20221005T045429Z
UID:9880-1668672000-1668704400@namdet.org
SUMMARY:NAMDET National Conference 2022\, York Racecourse\, Thursday 17th November
DESCRIPTION:This year’s conference theme is Learning to Connect\, focusing on how NAMDET is best placed to help drive forward medical device training\, assessment and competencies regarding connectivity within healthcare and networking with others. Speakers from the NHS\, regulatory bodies\, industry\, and medical equipment companies will share their insights and how learning to connect with medical devices and others takes centre stage. NAMDET members will also be sharing their projects. Book early to avoid disappointment\, visit the NAMDET website ‘Conference 2022‘ button for more information and to book your place. \nTickets can be purchased in advance using credit card\, debit card or PAYPAL \nWe still have a few exhibitor opportunities available so please see the exhibitor information leaflet and contact our conference team for more information.
URL:https://namdet.org/event/namdet-national-conference-2022-thursday-17th-november/
LOCATION:Yo231EX\, York Racecourse Conference Centre\, York\, York\, YO231EX\, United Kingdom
CATEGORIES:Annual Conference
END:VEVENT
END:VCALENDAR