BEGIN:VCALENDAR
VERSION:2.0
PRODID:-//NAMDET - ECPv5.5.0//NONSGML v1.0//EN
CALSCALE:GREGORIAN
METHOD:PUBLISH
X-WR-CALNAME:NAMDET
X-ORIGINAL-URL:https://namdet.org
X-WR-CALDESC:Events for NAMDET
BEGIN:VTIMEZONE
TZID:Europe/London
BEGIN:DAYLIGHT
TZOFFSETFROM:+0000
TZOFFSETTO:+0100
TZNAME:BST
DTSTART:20250330T010000
END:DAYLIGHT
BEGIN:STANDARD
TZOFFSETFROM:+0100
TZOFFSETTO:+0000
TZNAME:GMT
DTSTART:20251026T010000
END:STANDARD
END:VTIMEZONE
BEGIN:VEVENT
DTSTART;TZID=Europe/London:20250416T100000
DTEND;TZID=Europe/London:20250416T140000
DTSTAMP:20260426T020445
CREATED:20250330T064934Z
LAST-MODIFIED:20250330T064934Z
UID:11914-1744797600-1744812000@namdet.org
SUMMARY:NAMDET Wales regional meeting
DESCRIPTION:NAMDET Wales invites you to join the first meeting for 2025. With the choice of attending virtually via TEAMS (link to be sent to you directly by email) or in person\, save the date and join us for what is going to be a great start to 2025 . \nCome prepared to share your thoughts with colleagues and we will share the tea\, coffee and biscuits. Tell us what you think Wales can do better and get involved in making the change. Let’s get the conversation started with some of our familiar topics; \n\nReview\, and success\, of NAMDET National Conferences 2023 and 2024\nAll Wales IV Therapy Passport and Training; looking to the future\nFind out more about equipment monitoring and training for virtual wards\nNETIS; National Equipment Tracking & Inventory System\n\nA number of positions are also available and open to any NAMDET member. Usually appointed for two years and it’s time for review\, these roles include;\na. Regional Chair; usually a 2-year position (but can be extended)\nb. Regional Secretary; again usually a 2 year position\nc. Membership liaison; keeping things up to date and promoting membership\nd. NAMDET Wales website Media lead (help update the regional page\, news etc. \nfor more info email; \nRichard Stubbs\, Regional Chair Richard.stubbs@wales.nhs.uk \nBuddug Jones\, Regional  Secretary Buddug.jones4@wales.nhs.uk  \n 
URL:https://namdet.org/event/namdet-wales-regional-meeting-2/
LOCATION:NP44 8YN\, Grange Hospital\, Newport\, NP448YN
END:VEVENT
END:VCALENDAR